BEGIN:VCALENDAR
VERSION:2.0
PRODID:-//Kailee Mills Foundation - ECPv6.15.12.2//NONSGML v1.0//EN
CALSCALE:GREGORIAN
METHOD:PUBLISH
X-WR-CALNAME:Kailee Mills Foundation
X-ORIGINAL-URL:https://www.kaileemillsfoundation.org
X-WR-CALDESC:Events for Kailee Mills Foundation
REFRESH-INTERVAL;VALUE=DURATION:PT1H
X-Robots-Tag:noindex
X-PUBLISHED-TTL:PT1H
BEGIN:VTIMEZONE
TZID:UTC
BEGIN:STANDARD
TZOFFSETFROM:+0000
TZOFFSETTO:+0000
TZNAME:UTC
DTSTART:20210101T000000
END:STANDARD
END:VTIMEZONE
BEGIN:VEVENT
DTSTART;TZID=UTC:20220506T173000
DTEND;TZID=UTC:20220506T210000
DTSTAMP:20260420T073948
CREATED:20220323T174158Z
LAST-MODIFIED:20220323T174158Z
UID:10000021-1651858200-1651870800@www.kaileemillsfoundation.org
SUMMARY:Buckle Up 4 Kailee Car Show
DESCRIPTION:CLICK HERE TO REGISTER
URL:https://www.kaileemillsfoundation.org/event/buckle-up-4-kailee-car-show/
LOCATION:Bareback Bar & Icehouse\, 19940 1/2 Kuykendahl Rd\, Spring\, TX\, 77379\, United States
END:VEVENT
BEGIN:VEVENT
DTSTART;VALUE=DATE:20220507
DTEND;VALUE=DATE:20220508
DTSTAMP:20260420T073948
CREATED:20210623T221402Z
LAST-MODIFIED:20220128T124119Z
UID:10000019-1651881600-1651967999@www.kaileemillsfoundation.org
SUMMARY:Buckle Up 4 Kailee 5K Run/Walk
DESCRIPTION:REGISTER HERE\nInterested in becoming an event sponsor? Find the packet HERE and complete your sponsorship online HERE.
URL:https://www.kaileemillsfoundation.org/event/5k/
LOCATION:Gullo Park\, 1122 Pruitt Rd #1/2\, The Woodlands\, TX\, 77380\, United States
ATTACH;FMTTYPE=image/png:https://www.kaileemillsfoundation.org/wp-content/uploads/Copy-of-5K-1050-x-262-px-2.png
END:VEVENT
END:VCALENDAR